BEGIN:VCALENDAR
VERSION:2.0
PRODID:icalendar-ruby
CALSCALE:GREGORIAN
METHOD:PUBLISH
BEGIN:VEVENT
DTSTAMP:20260424T165722Z
UID:21-371813@farwellumc.com
DTSTART:20260916T230000Z
DTEND:20260917T000000Z
CLASS:PUBLIC
CREATED:20260424T113201
DESCRIPTION:
LAST-MODIFIED:20260424T113201
LOCATION:
SUMMARY:Choir Practice
URL;VALUE=URI:https://www.farwellumc.com/events/choir-practice/2026-09-16
END:VEVENT
END:VCALENDAR
