BEGIN:VCALENDAR
VERSION:2.0
PRODID:icalendar-ruby
CALSCALE:GREGORIAN
METHOD:PUBLISH
BEGIN:VEVENT
DTSTAMP:20260424T193323Z
UID:21-372060@farwellumc.com
DTSTART:20260930T230000Z
DTEND:20261001T000000Z
CLASS:PUBLIC
CREATED:20260424T141750
DESCRIPTION:
LAST-MODIFIED:20260424T141750
LOCATION:
SUMMARY:Choir Practice
URL;VALUE=URI:https://www.farwellumc.com/events/choir-practice/2026-09-30
END:VEVENT
END:VCALENDAR
