BEGIN:VCALENDAR
VERSION:2.0
PRODID:icalendar-ruby
CALSCALE:GREGORIAN
METHOD:PUBLISH
BEGIN:VEVENT
DTSTAMP:20260424T205914Z
UID:21-372061@farwellumc.com
DTSTART:20261007T230000Z
DTEND:20261008T000000Z
CLASS:PUBLIC
CREATED:20260424T141750
DESCRIPTION:
LAST-MODIFIED:20260424T141750
LOCATION:
SUMMARY:Choir Practice
URL;VALUE=URI:https://www.farwellumc.com/events/choir-practice/2026-10-07
END:VEVENT
END:VCALENDAR
