BEGIN:VCALENDAR
VERSION:2.0
PRODID:icalendar-ruby
CALSCALE:GREGORIAN
METHOD:PUBLISH
BEGIN:VEVENT
DTSTAMP:20260424T232218Z
UID:21-372308@farwellumc.com
DTSTART:20261021T230000Z
DTEND:20261022T000000Z
CLASS:PUBLIC
CREATED:20260424T170535
DESCRIPTION:
LAST-MODIFIED:20260424T170535
LOCATION:
SUMMARY:Choir Practice
URL;VALUE=URI:https://www.farwellumc.com/events/choir-practice/2026-10-21
END:VEVENT
END:VCALENDAR
