BEGIN:VCALENDAR
VERSION:2.0
PRODID:icalendar-ruby
CALSCALE:GREGORIAN
METHOD:PUBLISH
BEGIN:VEVENT
DTSTAMP:20260425T020526Z
UID:21-372555@farwellumc.com
DTSTART:20261105T000000Z
DTEND:20261105T010000Z
CLASS:PUBLIC
CREATED:20260424T195325
DESCRIPTION:
LAST-MODIFIED:20260424T195325
LOCATION:
SUMMARY:Choir Practice
URL;VALUE=URI:https://www.farwellumc.com/events/choir-practice/2026-11-04
END:VEVENT
END:VCALENDAR
