BEGIN:VCALENDAR
VERSION:2.0
PRODID:icalendar-ruby
CALSCALE:GREGORIAN
METHOD:PUBLISH
BEGIN:VEVENT
DTSTAMP:20260422T135531Z
UID:7-368542@farwellumc.com
DTSTART:20260830T130000Z
DTEND:20260830T140000Z
CLASS:PUBLIC
CREATED:20260422T083810
DESCRIPTION:
LAST-MODIFIED:20260422T083810
LOCATION:Farwell United Methodist Church (281 E Ohio St\, Farwell MI 48622)
SUMMARY:Sunday Morning Worship
URL;VALUE=URI:https://www.farwellumc.com/events/sunday-morning-worship/2026
 -08-30
END:VEVENT
END:VCALENDAR
