BEGIN:VCALENDAR
VERSION:2.0
PRODID:icalendar-ruby
CALSCALE:GREGORIAN
METHOD:PUBLISH
BEGIN:VEVENT
DTSTAMP:20260422T190804Z
UID:7-369031@farwellumc.com
DTSTART:20260920T130000Z
DTEND:20260920T140000Z
CLASS:PUBLIC
CREATED:20260422T142802
DESCRIPTION:
LAST-MODIFIED:20260422T142802
LOCATION:Farwell United Methodist Church (281 E Ohio St\, Farwell MI 48622)
SUMMARY:Sunday Morning Worship
URL;VALUE=URI:https://www.farwellumc.com/events/sunday-morning-worship/2026
 -09-20
END:VEVENT
END:VCALENDAR
