BEGIN:VCALENDAR
VERSION:2.0
PRODID:icalendar-ruby
CALSCALE:GREGORIAN
METHOD:PUBLISH
BEGIN:VEVENT
DTSTAMP:20260422T223751Z
UID:7-369276@farwellumc.com
DTSTART:20261004T130000Z
DTEND:20261004T140000Z
CLASS:PUBLIC
CREATED:20260422T172325
DESCRIPTION:
LAST-MODIFIED:20260422T172325
LOCATION:Farwell United Methodist Church (281 E Ohio St\, Farwell MI 48622)
SUMMARY:Sunday Morning Worship
URL;VALUE=URI:https://www.farwellumc.com/events/sunday-morning-worship/2026
 -10-04
END:VEVENT
END:VCALENDAR
