BEGIN:VCALENDAR
VERSION:2.0
PRODID:icalendar-ruby
CALSCALE:GREGORIAN
METHOD:PUBLISH
BEGIN:VEVENT
DTSTAMP:20260423T042032Z
UID:7-369766@farwellumc.com
DTSTART:20261025T130000Z
DTEND:20261025T140000Z
CLASS:PUBLIC
CREATED:20260422T230916
DESCRIPTION:
LAST-MODIFIED:20260422T230916
LOCATION:Farwell United Methodist Church (281 E Ohio St\, Farwell MI 48622)
SUMMARY:Sunday Morning Worship
URL;VALUE=URI:https://www.farwellumc.com/events/sunday-morning-worship/2026
 -10-25
END:VEVENT
END:VCALENDAR
